BEGIN:VCALENDAR
VERSION:2.0
PRODID:-//Glenbrook School - ECPv6.15.20//NONSGML v1.0//EN
CALSCALE:GREGORIAN
METHOD:PUBLISH
X-WR-CALNAME:Glenbrook School
X-ORIGINAL-URL:https://glenbrookschool.com
X-WR-CALDESC:Events for Glenbrook School
REFRESH-INTERVAL;VALUE=DURATION:PT1H
X-Robots-Tag:noindex
X-PUBLISHED-TTL:PT1H
BEGIN:VTIMEZONE
TZID:America/Chicago
BEGIN:DAYLIGHT
TZOFFSETFROM:-0600
TZOFFSETTO:-0500
TZNAME:CDT
DTSTART:20240310T080000
END:DAYLIGHT
BEGIN:STANDARD
TZOFFSETFROM:-0500
TZOFFSETTO:-0600
TZNAME:CST
DTSTART:20241103T070000
END:STANDARD
BEGIN:DAYLIGHT
TZOFFSETFROM:-0600
TZOFFSETTO:-0500
TZNAME:CDT
DTSTART:20250309T080000
END:DAYLIGHT
BEGIN:STANDARD
TZOFFSETFROM:-0500
TZOFFSETTO:-0600
TZNAME:CST
DTSTART:20251102T070000
END:STANDARD
BEGIN:DAYLIGHT
TZOFFSETFROM:-0600
TZOFFSETTO:-0500
TZNAME:CDT
DTSTART:20260308T080000
END:DAYLIGHT
BEGIN:STANDARD
TZOFFSETFROM:-0500
TZOFFSETTO:-0600
TZNAME:CST
DTSTART:20261101T070000
END:STANDARD
END:VTIMEZONE
BEGIN:VEVENT
DTSTART;VALUE=DATE:20251203
DTEND;VALUE=DATE:20251213
DTSTAMP:20260423T065006
CREATED:20251202T200018Z
LAST-MODIFIED:20251202T200018Z
UID:5464-1764720000-1765583999@glenbrookschool.com
SUMMARY:📝 MAP Testing – Grades K–6
DESCRIPTION:📝 MAP Testing – Grades K–6📅 Wednesday–Friday\, December 3–12\, 2025📍 Glenbrook School – Classrooms \nStudents in grades K–6 will participate in Winter MAP Testing during this window.Testing will take place during normal class time across subjects including Math\, Reading\, Language\, and Science (varies by grade). \nPlease help your child be successful by:✔️ Getting a good night’s sleep✔️ Eating a healthy breakfast✔️ Arriving to school on time
URL:https://glenbrookschool.com/event/%f0%9f%93%9d-map-testing-grades-k-6/
CATEGORIES:School Calendar
END:VEVENT
BEGIN:VEVENT
DTSTART;VALUE=DATE:20251203
DTEND;VALUE=DATE:20251219
DTSTAMP:20260423T065006
CREATED:20251201T151343Z
LAST-MODIFIED:20251201T151343Z
UID:5366-1764720000-1766102399@glenbrookschool.com
SUMMARY:🎁 12 Days of Christmas Begins
DESCRIPTION:Each day brings something festive—details to come!
URL:https://glenbrookschool.com/event/%f0%9f%8e%81-12-days-of-christmas-begins/
CATEGORIES:School Calendar
END:VEVENT
END:VCALENDAR