BEGIN:VCALENDAR
VERSION:2.0
PRODID:-//Glenbrook School - ECPv6.15.20//NONSGML v1.0//EN
CALSCALE:GREGORIAN
METHOD:PUBLISH
X-ORIGINAL-URL:https://glenbrookschool.com
X-WR-CALDESC:Events for Glenbrook School
REFRESH-INTERVAL;VALUE=DURATION:PT1H
X-Robots-Tag:noindex
X-PUBLISHED-TTL:PT1H
BEGIN:VTIMEZONE
TZID:America/Chicago
BEGIN:DAYLIGHT
TZOFFSETFROM:-0600
TZOFFSETTO:-0500
TZNAME:CDT
DTSTART:20250309T080000
END:DAYLIGHT
BEGIN:STANDARD
TZOFFSETFROM:-0500
TZOFFSETTO:-0600
TZNAME:CST
DTSTART:20251102T070000
END:STANDARD
BEGIN:DAYLIGHT
TZOFFSETFROM:-0600
TZOFFSETTO:-0500
TZNAME:CDT
DTSTART:20260308T080000
END:DAYLIGHT
BEGIN:STANDARD
TZOFFSETFROM:-0500
TZOFFSETTO:-0600
TZNAME:CST
DTSTART:20261101T070000
END:STANDARD
BEGIN:DAYLIGHT
TZOFFSETFROM:-0600
TZOFFSETTO:-0500
TZNAME:CDT
DTSTART:20270314T080000
END:DAYLIGHT
BEGIN:STANDARD
TZOFFSETFROM:-0500
TZOFFSETTO:-0600
TZNAME:CST
DTSTART:20271107T070000
END:STANDARD
END:VTIMEZONE
BEGIN:VEVENT
DTSTART;VALUE=DATE:20260119
DTEND;VALUE=DATE:20260120
DTSTAMP:20260423T113524
CREATED:20250814T191950Z
LAST-MODIFIED:20250814T191950Z
UID:5095-1768780800-1768867199@glenbrookschool.com
SUMMARY:📅 Martin Luther King Jr. Day – No School
DESCRIPTION:📅 Martin Luther King Jr. Day – No School📅 Monday\, January 19\, 2026📍 Glenbrook School \nIn observance of Martin Luther King Jr. Day\, there will be no school for students or staff.
URL:https://glenbrookschool.com/event/%f0%9f%93%85-martin-luther-king-jr-day-no-school/
CATEGORIES:School Calendar
END:VEVENT
BEGIN:VEVENT
DTSTART;TZID=America/Chicago:20260119T180000
DTEND;TZID=America/Chicago:20260119T200000
DTSTAMP:20260423T113524
CREATED:20250814T184017Z
LAST-MODIFIED:20250814T184017Z
UID:5051-1768845600-1768852800@glenbrookschool.com
SUMMARY:🏀 JV & Varsity Boys Basketball @ Haughton
DESCRIPTION:📅 Monday\, January 19\, 2026 | 🕕 6:00 PM📍 Haughton – Away GameJV and Varsity Boys take on Haughton in a Monday night matchup. Go Apaches! 🏀💪
URL:https://glenbrookschool.com/event/%f0%9f%8f%80-jv-varsity-boys-basketball-haughton-2/
CATEGORIES:Athletic Events
END:VEVENT
END:VCALENDAR