BEGIN:VCALENDAR
VERSION:2.0
PRODID:-//Glenbrook School - ECPv6.15.20//NONSGML v1.0//EN
CALSCALE:GREGORIAN
METHOD:PUBLISH
X-WR-CALNAME:Glenbrook School
X-ORIGINAL-URL:https://glenbrookschool.com
X-WR-CALDESC:Events for Glenbrook School
REFRESH-INTERVAL;VALUE=DURATION:PT1H
X-Robots-Tag:noindex
X-PUBLISHED-TTL:PT1H
BEGIN:VTIMEZONE
TZID:America/Chicago
BEGIN:DAYLIGHT
TZOFFSETFROM:-0600
TZOFFSETTO:-0500
TZNAME:CDT
DTSTART:20250309T080000
END:DAYLIGHT
BEGIN:STANDARD
TZOFFSETFROM:-0500
TZOFFSETTO:-0600
TZNAME:CST
DTSTART:20251102T070000
END:STANDARD
BEGIN:DAYLIGHT
TZOFFSETFROM:-0600
TZOFFSETTO:-0500
TZNAME:CDT
DTSTART:20260308T080000
END:DAYLIGHT
BEGIN:STANDARD
TZOFFSETFROM:-0500
TZOFFSETTO:-0600
TZNAME:CST
DTSTART:20261101T070000
END:STANDARD
BEGIN:DAYLIGHT
TZOFFSETFROM:-0600
TZOFFSETTO:-0500
TZNAME:CDT
DTSTART:20270314T080000
END:DAYLIGHT
BEGIN:STANDARD
TZOFFSETFROM:-0500
TZOFFSETTO:-0600
TZNAME:CST
DTSTART:20271107T070000
END:STANDARD
END:VTIMEZONE
BEGIN:VEVENT
DTSTART;VALUE=DATE:20260420
DTEND;VALUE=DATE:20260426
DTSTAMP:20260423T063238
CREATED:20260420T014136Z
LAST-MODIFIED:20260420T014136Z
UID:5764-1776643200-1777161599@glenbrookschool.com
SUMMARY:📚 MAP Testing Grades 7–11
DESCRIPTION:📅 Monday\, April 20 – Friday\, April 24\, 2026 \n📍 Glenbrook School \nStudents in grades 7–11 will participate in MAP testing during the mornings on Monday\, Tuesday\, Thursday\, and Friday. Testing will take place during 1st hour/Activity time using the A.M. Activity Schedule. \nTesting Schedule: \n🧮 Monday\, April 20 – Math \n🔬 Tuesday\, April 21 – Science \n✍️ Thursday\, April 23 – Language \n📖 Friday\, April 24 – Reading \n⏰ Testing begins by 8:00 a.m. each day\, so please make every effort for students to arrive on time. Encourage students to get a good night’s rest and eat breakfast. \nThese assessments provide important academic growth data\, and we encourage all students to do their best!
URL:https://glenbrookschool.com/event/%f0%9f%93%9a-map-testing-grades-7-11/
CATEGORIES:School Calendar
END:VEVENT
BEGIN:VEVENT
DTSTART;VALUE=DATE:20260518
DTEND;VALUE=DATE:20260520
DTSTAMP:20260423T063238
CREATED:20250814T192703Z
LAST-MODIFIED:20250814T192703Z
UID:5103-1779062400-1779235199@glenbrookschool.com
SUMMARY:✏️ Final Exams – Early Dismissal Days
DESCRIPTION:✏️ Final Exams – Early Dismissal Days📅 Monday–Tuesday\, May 18–19\, 2026📍 Glenbrook School \nStudents will take final exams over two half days.⏰ Early dismissal will be observed on both days.Please plan accordingly as we wrap up the school year! 🎓📚
URL:https://glenbrookschool.com/event/%e2%9c%8f%ef%b8%8f-final-exams-early-dismissal-days/
CATEGORIES:School Calendar
END:VEVENT
BEGIN:VEVENT
DTSTART;VALUE=DATE:20260519
DTEND;VALUE=DATE:20260520
DTSTAMP:20260423T063238
CREATED:20250814T192818Z
LAST-MODIFIED:20250814T192818Z
UID:5105-1779148800-1779235199@glenbrookschool.com
SUMMARY:🎉 Last Day of School
DESCRIPTION:🎉 Last Day of School📅 Tuesday\, May 19\, 2026📍 Glenbrook School \nIt’s the final day of the 2025–2026 school year!We’ll dismiss early following final exams.Wishing all of our Apaches a safe\, happy\, and fun-filled summer! ☀️💙
URL:https://glenbrookschool.com/event/%f0%9f%8e%89-last-day-of-school/
CATEGORIES:School Calendar
END:VEVENT
BEGIN:VEVENT
DTSTART;VALUE=DATE:20260613
DTEND;VALUE=DATE:20260614
DTSTAMP:20260423T063238
CREATED:20250822T150900Z
LAST-MODIFIED:20250822T150900Z
UID:5239-1781308800-1781395199@glenbrookschool.com
SUMMARY:📝 National ACT Test Date
DESCRIPTION:📝 National ACT Test Date📅 Saturday\, June 13\, 2026📍 National ACT Testing Sites📌 Registration Deadline: May 8\, 2026Great option for juniors to test before senior year!
URL:https://glenbrookschool.com/event/%f0%9f%93%9d-national-act-test-date-6/
END:VEVENT
BEGIN:VEVENT
DTSTART;VALUE=DATE:20260718
DTEND;VALUE=DATE:20260719
DTSTAMP:20260423T063238
CREATED:20250822T150933Z
LAST-MODIFIED:20250822T150933Z
UID:5241-1784332800-1784419199@glenbrookschool.com
SUMMARY:📝 National ACT Test Date
DESCRIPTION:📝 National ACT Test Date📅 Saturday\, July 18\, 2026 📍 National ACT Testing Sites📌 Registration Deadline: June 12\, 2026A final summer opportunity to test before fall college deadlines.
URL:https://glenbrookschool.com/event/%f0%9f%93%9d-national-act-test-date-7/
END:VEVENT
END:VCALENDAR