BEGIN:VCALENDAR
VERSION:2.0
PRODID:-//Glenbrook School - ECPv6.15.20//NONSGML v1.0//EN
CALSCALE:GREGORIAN
METHOD:PUBLISH
X-ORIGINAL-URL:https://glenbrookschool.com
X-WR-CALDESC:Events for Glenbrook School
REFRESH-INTERVAL;VALUE=DURATION:PT1H
X-Robots-Tag:noindex
X-PUBLISHED-TTL:PT1H
BEGIN:VTIMEZONE
TZID:America/Chicago
BEGIN:DAYLIGHT
TZOFFSETFROM:-0600
TZOFFSETTO:-0500
TZNAME:CDT
DTSTART:20240310T080000
END:DAYLIGHT
BEGIN:STANDARD
TZOFFSETFROM:-0500
TZOFFSETTO:-0600
TZNAME:CST
DTSTART:20241103T070000
END:STANDARD
BEGIN:DAYLIGHT
TZOFFSETFROM:-0600
TZOFFSETTO:-0500
TZNAME:CDT
DTSTART:20250309T080000
END:DAYLIGHT
BEGIN:STANDARD
TZOFFSETFROM:-0500
TZOFFSETTO:-0600
TZNAME:CST
DTSTART:20251102T070000
END:STANDARD
BEGIN:DAYLIGHT
TZOFFSETFROM:-0600
TZOFFSETTO:-0500
TZNAME:CDT
DTSTART:20260308T080000
END:DAYLIGHT
BEGIN:STANDARD
TZOFFSETFROM:-0500
TZOFFSETTO:-0600
TZNAME:CST
DTSTART:20261101T070000
END:STANDARD
END:VTIMEZONE
BEGIN:VEVENT
DTSTART;TZID=America/Chicago:20251003T173000
DTEND;TZID=America/Chicago:20251003T180000
DTSTAMP:20260423T051611
CREATED:20250922T191353Z
LAST-MODIFIED:20250922T191353Z
UID:5288-1759512600-1759514400@glenbrookschool.com
SUMMARY:Alumni Welcome Reception
DESCRIPTION:Alumni Welcome Reception📅 Friday\, October 3\, 2025 | 🕠 5:30 PM📍 Glenbrook LibraryWe welcome all alumni back to campus. Please stop by the library for refreshments and fellowship before the game! \nEntry to the game is $10
URL:https://glenbrookschool.com/event/alumni-welcome-reception/
LOCATION:Glenbrook School\, 1674 Country Club Circle\, Minden\, LA\, 71055\, United States
CATEGORIES:School Calendar
END:VEVENT
BEGIN:VEVENT
DTSTART;TZID=America/Chicago:20251003T181500
DTEND;TZID=America/Chicago:20251003T183000
DTSTAMP:20260423T051611
CREATED:20250922T191520Z
LAST-MODIFIED:20250922T191520Z
UID:5290-1759515300-1759516200@glenbrookschool.com
SUMMARY:👑 Homecoming Court Presentation & Crowning
DESCRIPTION:👑 Homecoming Court Presentation & Crowning📅 Friday\, October 3\, 2025 | 🕕 6:15 PM📍 Glenbrook Football FieldCome early to see the formal presentation of the Homecoming Court and the crowning of our 2025 Homecoming Queen!
URL:https://glenbrookschool.com/event/%f0%9f%91%91-homecoming-court-presentation-crowning/
LOCATION:Glenbrook School\, 1674 Country Club Circle\, Minden\, LA\, 71055\, United States
CATEGORIES:School Calendar
END:VEVENT
BEGIN:VEVENT
DTSTART;TZID=America/Chicago:20251003T190000
DTEND;TZID=America/Chicago:20251003T210000
DTSTAMP:20260423T051611
CREATED:20250804T230642Z
LAST-MODIFIED:20250922T191646Z
UID:4765-1759518000-1759525200@glenbrookschool.com
SUMMARY:🏈 Homecoming Game vs. Plain Dealing
DESCRIPTION:October 3 – vs. Plain Dealing Lions (Homecoming)📍 Home🕖 7:00 PM \nIt’s the big night! Come show your school spirit as the Apaches take on the Lions under the lights for Homecoming 2025! 💙❤️
URL:https://glenbrookschool.com/event/homecoming-game-vs-plain-dealing/
LOCATION:Glenbrook School\, 1674 Country Club Circle\, Minden\, LA\, 71055\, United States
CATEGORIES:Athletic Events,School Calendar
END:VEVENT
BEGIN:VEVENT
DTSTART;VALUE=DATE:20251004
DTEND;VALUE=DATE:20251005
DTSTAMP:20260423T051611
CREATED:20250817T164144Z
LAST-MODIFIED:20250817T164144Z
UID:5145-1759536000-1759622399@glenbrookschool.com
SUMMARY:🏊 Swim Meet @ Shreveport YMCA
DESCRIPTION:📅 Saturday\, October 4\, 2025 | 📍 YMCA – Shreveport\, LAIt’s a weekend splash at the Shreveport YMCA. Come cheer on our Apaches!
URL:https://glenbrookschool.com/event/%f0%9f%8f%8a-swim-meet-shreveport-ymca-2/
LOCATION:YMCA of Northwest Louisiana\, 3455 Knight St\, Shreveport\, LA\, 71105
CATEGORIES:Athletic Events
END:VEVENT
BEGIN:VEVENT
DTSTART;TZID=America/Chicago:20251004T073000
DTEND;TZID=America/Chicago:20251004T090000
DTSTAMP:20260423T051611
CREATED:20250817T215639Z
LAST-MODIFIED:20250928T000712Z
UID:5174-1759563000-1759568400@glenbrookschool.com
SUMMARY:XC Meet – Ruston @ the Gospel
DESCRIPTION:🏃 XC Meet – Ruston @ the Gospel📅 Saturday\, October 4\, 2025 | 🕢 ~7:30 AM📍 The Gospel~ 108 Sanctuary Road\, RustonPart of Glenbrook’s Homecoming Weekend festivities. Cheer them on!
URL:https://glenbrookschool.com/event/xc-meet-ruston-lincoln-parish-park/
CATEGORIES:Athletic Events
END:VEVENT
BEGIN:VEVENT
DTSTART;TZID=America/Chicago:20251006T150000
DTEND;TZID=America/Chicago:20251006T151500
DTSTAMP:20260423T051611
CREATED:20250922T190151Z
LAST-MODIFIED:20250922T190151Z
UID:5277-1759762800-1759763700@glenbrookschool.com
SUMMARY:⛳ Golf Sign-Up (7th-12th Students)
DESCRIPTION:⛳ Golf Sign-Up (Students)📅 Monday\, October 6\, 2025 | 🕒 3:00 PM📍 Glenbrook School Cafeteria \nAny students interested in joining the golf team should attend the sign-up meeting in the cafeteria.
URL:https://glenbrookschool.com/event/%e2%9b%b3-golf-sign-up-7th-12th-students/
LOCATION:Glenbrook School\, 1674 Country Club Circle\, Minden\, LA\, 71055\, United States
CATEGORIES:Athletic Events,School Calendar
END:VEVENT
BEGIN:VEVENT
DTSTART;VALUE=DATE:20251007
DTEND;VALUE=DATE:20251008
DTSTAMP:20260423T051611
CREATED:20250922T192156Z
LAST-MODIFIED:20250922T192156Z
UID:5294-1759795200-1759881599@glenbrookschool.com
SUMMARY:🏈 Junior High Football @ Cedar Creek
DESCRIPTION:🏈 Junior High Football @ Cedar Creek📅 Tuesday\, October 7\, 2025 | 📍 Cedar Creek School – Away Game \nThe Junior High Apaches are back on the road for a big matchup against Cedar Creek. Let’s bring that Glenbrook spirit and cheer them on! 💙❤️
URL:https://glenbrookschool.com/event/%f0%9f%8f%88-junior-high-football-cedar-creek-2/
LOCATION:Cedar Creek\, 2400 Cedar Creek Dr\, Ruston\, LA\, 71270
CATEGORIES:Athletic Events,School Calendar
END:VEVENT
BEGIN:VEVENT
DTSTART;VALUE=DATE:20251008
DTEND;VALUE=DATE:20251009
DTSTAMP:20260423T051611
CREATED:20250804T231043Z
LAST-MODIFIED:20250804T231043Z
UID:4770-1759881600-1759967999@glenbrookschool.com
SUMMARY:Parent-Teacher Conferences & Virtual Learning Day
DESCRIPTION:📅 Wednesday\, October 8All students will participate in virtual learning from home to allow time for parent-teacher conferences. \n🗓️ Conference scheduling details will be shared closer to the date.
URL:https://glenbrookschool.com/event/parent-teacher-conferences-virtual-learning-day/
LOCATION:Glenbrook School\, 1674 Country Club Circle\, Minden\, LA\, 71055\, United States
CATEGORIES:School Calendar
END:VEVENT
BEGIN:VEVENT
DTSTART;VALUE=DATE:20251009
DTEND;VALUE=DATE:20251010
DTSTAMP:20260423T051611
CREATED:20250804T231141Z
LAST-MODIFIED:20250804T231406Z
UID:4772-1759968000-1760054399@glenbrookschool.com
SUMMARY:End of 1st 9 Weeks
DESCRIPTION:📅 Thursday\, October 9The first 9 weeks grading period ends. Report cards are scheduled to go home Oct 16th.
URL:https://glenbrookschool.com/event/end-of-1st-9-weeks/
CATEGORIES:School Calendar
END:VEVENT
BEGIN:VEVENT
DTSTART;VALUE=DATE:20251009
DTEND;VALUE=DATE:20251015
DTSTAMP:20260423T051611
CREATED:20250804T231327Z
LAST-MODIFIED:20250804T231327Z
UID:4775-1759968000-1760486399@glenbrookschool.com
SUMMARY:🍂 Fall Break – No School
DESCRIPTION:🍂 Fall Break – No School\n📅 October 9–14School will be closed for Fall Break. Classes will resume on Wednesday\, October 15.
URL:https://glenbrookschool.com/event/%f0%9f%8d%82-fall-break-no-school/
CATEGORIES:School Calendar
END:VEVENT
BEGIN:VEVENT
DTSTART;TZID=America/Chicago:20251009T190000
DTEND;TZID=America/Chicago:20251009T210000
DTSTAMP:20260423T051611
CREATED:20250804T230854Z
LAST-MODIFIED:20250805T144054Z
UID:4767-1760036400-1760043600@glenbrookschool.com
SUMMARY:🏈 Away Game @ Arcadia
DESCRIPTION:October 9 – at Arcadia Hornets📍 Away – Arcadia🕖 7:00 PMAnother district showdown as the Apaches travel to face the Hornets.
URL:https://glenbrookschool.com/event/away-game-arcadia/
LOCATION:Arcadia High School\, 967 Daniel St\, Arcadia\, LA\, 71001
CATEGORIES:Athletic Events
END:VEVENT
BEGIN:VEVENT
DTSTART;TZID=America/Chicago:20251011T073000
DTEND;TZID=America/Chicago:20251011T090000
DTSTAMP:20260423T051611
CREATED:20250817T215733Z
LAST-MODIFIED:20250817T215733Z
UID:5176-1760167800-1760173200@glenbrookschool.com
SUMMARY:🏃‍♂️ XC Meet – Huntington Raiders Invite
DESCRIPTION:🏃‍♂️ XC Meet – Huntington Raiders Invite📅 Saturday\, October 11\, 2025 | 🕢 ~7:30 AM📍 Shreveport (near airport)The Apache runners head to Shreveport to compete against the Huntington Raiders.
URL:https://glenbrookschool.com/event/%f0%9f%8f%83%e2%99%82%ef%b8%8f-xc-meet-huntington-raiders-invite/
CATEGORIES:Athletic Events
END:VEVENT
BEGIN:VEVENT
DTSTART;TZID=America/Chicago:20251014T173000
DTEND;TZID=America/Chicago:20251014T183000
DTSTAMP:20260423T051611
CREATED:20251015T145249Z
LAST-MODIFIED:20251015T145249Z
UID:5316-1760463000-1760466600@glenbrookschool.com
SUMMARY:🏀 JH Girls Basketball vs. Calvary
DESCRIPTION:🏀 JH Girls Basketball vs. Calvary📅 Tuesday\, October 14\, 2025 | 🕠 5:30 PM📍 Glenbrook School – Home GameThe Lady Apaches kick off the junior high season with a home game against Calvary. Let’s go\, girls! 💙🏀
URL:https://glenbrookschool.com/event/%f0%9f%8f%80-jh-girls-basketball-vs-calvary/
LOCATION:Glenbrook School\, 1674 Country Club Circle\, Minden\, LA\, 71055\, United States
CATEGORIES:Athletic Events,School Calendar
END:VEVENT
BEGIN:VEVENT
DTSTART;TZID=America/Chicago:20251017T190000
DTEND;TZID=America/Chicago:20251017T210000
DTSTAMP:20260423T051611
CREATED:20250804T231529Z
LAST-MODIFIED:20250805T144023Z
UID:4778-1760727600-1760734800@glenbrookschool.com
SUMMARY:🏈 Home Game vs. Lincoln Prep
DESCRIPTION:October 17 – vs. Lincoln Prep Panthers📍 Home🕖 7:00 PMBack on home turf against the Lincoln Prep Panthers. Bring the noise!
URL:https://glenbrookschool.com/event/home-game-vs-lincoln-prep/
LOCATION:Glenbrook School\, 1674 Country Club Circle\, Minden\, LA\, 71055\, United States
CATEGORIES:Athletic Events
END:VEVENT
BEGIN:VEVENT
DTSTART;VALUE=DATE:20251018
DTEND;VALUE=DATE:20251019
DTSTAMP:20260423T051611
CREATED:20250817T164228Z
LAST-MODIFIED:20250817T164228Z
UID:5147-1760745600-1760831999@glenbrookschool.com
SUMMARY:🏊 Swim Meet @ Shreveport YMCA
DESCRIPTION:🏊 Swim Meet @ Shreveport YMCA📅 Saturday\, October 18\, 2025 | 📍 YMCA – Shreveport\, LABack to the blocks in Shreveport! Let’s go\, Glenbrook! 💙
URL:https://glenbrookschool.com/event/%f0%9f%8f%8a-swim-meet-shreveport-ymca-3/
LOCATION:YMCA of Northwest Louisiana\, 3455 Knight St\, Shreveport\, LA\, 71105
CATEGORIES:Athletic Events
END:VEVENT
BEGIN:VEVENT
DTSTART;VALUE=DATE:20251018
DTEND;VALUE=DATE:20251019
DTSTAMP:20260423T051611
CREATED:20250822T150620Z
LAST-MODIFIED:20250922T192547Z
UID:5231-1760745600-1760831999@glenbrookschool.com
SUMMARY:📝 National ACT Test Date
DESCRIPTION:📝 National ACT Test Date📅 Saturday\, October 18\, 2025📍 National ACT Testing Sites📌 Registration Deadline: September 30\, 2025This is one of the most popular testing dates. Register early to secure your spot!
URL:https://glenbrookschool.com/event/%f0%9f%93%9d-national-act-test-date-2/
END:VEVENT
BEGIN:VEVENT
DTSTART;TZID=America/Chicago:20251018T073000
DTEND;TZID=America/Chicago:20251018T090000
DTSTAMP:20260423T051611
CREATED:20250817T215817Z
LAST-MODIFIED:20250817T215817Z
UID:5178-1760772600-1760778000@glenbrookschool.com
SUMMARY:🏃 XC Meet – Benton @ Benton High School
DESCRIPTION:🏃 XC Meet – Benton @ Benton High School📅 Saturday\, October 18\, 2025 | 🕢 ~7:30 AM📍 Benton High SchoolFinal regular meet for Junior High & JV runners. Let’s finish strong! 💙🏁
URL:https://glenbrookschool.com/event/%f0%9f%8f%83-xc-meet-benton-benton-high-school/
CATEGORIES:Athletic Events
END:VEVENT
BEGIN:VEVENT
DTSTART;VALUE=DATE:20251020
DTEND;VALUE=DATE:20251021
DTSTAMP:20260423T051611
CREATED:20250817T164320Z
LAST-MODIFIED:20250817T164320Z
UID:5149-1760918400-1761004799@glenbrookschool.com
SUMMARY:🏊 Swim Meet @ Ruston – Lambright Center
DESCRIPTION:📅 Monday\, October 20\, 2025 | 📍 Lambright Sports & Wellness Center – Ruston\, LAOne last Ruston tune-up before conference begins. Go Apaches!
URL:https://glenbrookschool.com/event/%f0%9f%8f%8a-swim-meet-ruston-lambright-center-3/
LOCATION:Lambright Center-Ruston\, 922 Tech Dr\, Ruston\, LA\, 71270
CATEGORIES:Athletic Events
END:VEVENT
BEGIN:VEVENT
DTSTART;VALUE=DATE:20251022
DTEND;VALUE=DATE:20251023
DTSTAMP:20260423T051611
CREATED:20251001T140849Z
LAST-MODIFIED:20251001T140849Z
UID:5304-1761091200-1761177599@glenbrookschool.com
SUMMARY:📸 School Picture Day
DESCRIPTION:📸 School Picture Day📅 Wednesday\, October 22\, 2025All students will take individual school portraits for the yearbook.Be sure to wear your best uniform and smile big! 😁🎓
URL:https://glenbrookschool.com/event/%f0%9f%93%b8-school-picture-day/
CATEGORIES:School Calendar
END:VEVENT
BEGIN:VEVENT
DTSTART;VALUE=DATE:20251022
DTEND;VALUE=DATE:20251023
DTSTAMP:20260423T051611
CREATED:20251002T161202Z
LAST-MODIFIED:20251002T161202Z
UID:5310-1761091200-1761177599@glenbrookschool.com
SUMMARY:📝 PSAT
DESCRIPTION:📝 PSAT – Select 10th & 11th Graders📅 Wednesday\, October 22\, 2025 | 🕗 Morning Testing📍 Glenbrook School \nSelect sophomores and juniors will take the PSAT on campus.This is an important opportunity for practice\, scholarship qualification\, and college readiness! ✏️🎓
URL:https://glenbrookschool.com/event/%f0%9f%93%9d-psat/
CATEGORIES:School Calendar
END:VEVENT
BEGIN:VEVENT
DTSTART;VALUE=DATE:20251023
DTEND;VALUE=DATE:20251024
DTSTAMP:20260423T051611
CREATED:20250905T201436Z
LAST-MODIFIED:20250905T201436Z
UID:5252-1761177600-1761263999@glenbrookschool.com
SUMMARY:🍂 Fall BINGO Night
DESCRIPTION:🍂 Fall BINGO Night (APO Fundraiser)📅 Thursday\, October 23\, 2025 | 🕖 Time TBA📍 Glenbrook School \nJoin us for a fun-filled evening of Fall BINGO hosted by the Apache Parent Organization!Prizes\, snacks\, autumn vibes\, and supporting our school. 🍁🧡More details to come!
URL:https://glenbrookschool.com/event/%f0%9f%8d%82-fall-bingo-night/
CATEGORIES:School Calendar
END:VEVENT
BEGIN:VEVENT
DTSTART;VALUE=DATE:20251028
DTEND;VALUE=DATE:20251029
DTSTAMP:20260423T051611
CREATED:20250804T233539Z
LAST-MODIFIED:20250804T233539Z
UID:4782-1761609600-1761695999@glenbrookschool.com
SUMMARY:🎓 ACT Test Day
DESCRIPTION:🎓 ACT Test Day – Juniors & Seniors\n📅 Monday\, October 28Juniors and seniors will take the ACT on campus.🕗 Please arrive on time and prepared! \nStudents should bring:• A photo ID• #2 pencils (no mechanical)• An ACT-approved calculator• A good night’s sleep and a positive attitude! \nTesting locations and additional instructions will be shared closer to the date.
URL:https://glenbrookschool.com/event/%f0%9f%8e%93-act-test-day/
LOCATION:Glenbrook School\, 1674 Country Club Circle\, Minden\, LA\, 71055\, United States
CATEGORIES:School Calendar
END:VEVENT
BEGIN:VEVENT
DTSTART;VALUE=DATE:20251028
DTEND;VALUE=DATE:20251029
DTSTAMP:20260423T051611
CREATED:20250817T164438Z
LAST-MODIFIED:20250817T164438Z
UID:5151-1761609600-1761695999@glenbrookschool.com
SUMMARY:🏊 Conference Prelims-Varsity Swim
DESCRIPTION:🏊 Conference Prelims📅 Tuesday\, October 28\, 2025 | 🕖 [TBA]📍 [Location TBA]Time to race! Glenbrook swimmers compete for spots in the finals during conference prelims.
URL:https://glenbrookschool.com/event/%f0%9f%8f%8a-conference-prelims-varsity-swim/
CATEGORIES:Athletic Events
END:VEVENT
BEGIN:VEVENT
DTSTART;VALUE=DATE:20251028
DTEND;VALUE=DATE:20251029
DTSTAMP:20260423T051611
CREATED:20250822T145741Z
LAST-MODIFIED:20250822T145741Z
UID:5219-1761609600-1761695999@glenbrookschool.com
SUMMARY:🥎 Softball vs. Parkway
DESCRIPTION:🥎 Softball vs. Parkway📅 Tuesday\, October 28\, 2025 | 📍 Glenbrook School – Home GameThe fall season wraps up at home as the Apaches host Parkway. Come out and support the team! 💙🥎
URL:https://glenbrookschool.com/event/%f0%9f%a5%8e-softball-vs-parkway/
LOCATION:Glenbrook School\, 1674 Country Club Circle\, Minden\, LA\, 71055\, United States
CATEGORIES:Athletic Events
END:VEVENT
BEGIN:VEVENT
DTSTART;TZID=America/Chicago:20251028T080000
DTEND;TZID=America/Chicago:20251028T120000
DTSTAMP:20260423T051611
CREATED:20250822T150358Z
LAST-MODIFIED:20250822T150358Z
UID:5225-1761638400-1761652800@glenbrookschool.com
SUMMARY:🎓 ACT Testing – Juniors & Seniors
DESCRIPTION:📅 Tuesday\, October 28\, 2025 | 🕗 8:00 AM – 12:00 PM📍 Glenbrook School \nJuniors and Seniors will take the ACT on campus.Students should arrive on time and bring:✔️ A photo ID✔️ #2 pencils (no mechanical)✔️ ACT-approved calculator✔️ A good night’s rest and positive mindset!
URL:https://glenbrookschool.com/event/%f0%9f%8e%93-act-testing-juniors-seniors/
LOCATION:Glenbrook School\, 1674 Country Club Circle\, Minden\, LA\, 71055\, United States
CATEGORIES:School Calendar
END:VEVENT
BEGIN:VEVENT
DTSTART;TZID=America/Chicago:20251028T173000
DTEND;TZID=America/Chicago:20251028T193000
DTSTAMP:20260423T051611
CREATED:20251015T145348Z
LAST-MODIFIED:20251015T145348Z
UID:5318-1761672600-1761679800@glenbrookschool.com
SUMMARY:🏀 JH Basketball vs. Ringgold
DESCRIPTION:🏀 JH Basketball vs. Ringgold📅 Tuesday\, October 28\, 2025 | 🕠 5:30 PM📍 Glenbrook School – Home GameRinggold comes to town for a junior high showdown. Come out and support the Apaches!
URL:https://glenbrookschool.com/event/%f0%9f%8f%80-jh-basketball-vs-ringgold/
CATEGORIES:Athletic Events,School Calendar
END:VEVENT
BEGIN:VEVENT
DTSTART;TZID=America/Chicago:20251029T130000
DTEND;TZID=America/Chicago:20251029T140000
DTSTAMP:20260423T051611
CREATED:20250822T150453Z
LAST-MODIFIED:20250822T150453Z
UID:5227-1761742800-1761746400@glenbrookschool.com
SUMMARY:🎓 Junior/Senior College & Career Fair
DESCRIPTION:🎓 Junior/Senior College & Career Fair📅 Wednesday\, October 29\, 2025 | 🕐 1:00–2:00 PM📍 Glenbrook Multipurpose Room \nAll Juniors and Seniors will attend our annual College & Career Fair\, where they can connect with colleges\, recruiters\, and career professionals. A great opportunity to explore life after high school! 💼🎓
URL:https://glenbrookschool.com/event/%f0%9f%8e%93-junior-senior-college-career-fair/
LOCATION:Glenbrook School\, 1674 Country Club Circle\, Minden\, LA\, 71055\, United States
CATEGORIES:School Calendar
END:VEVENT
BEGIN:VEVENT
DTSTART;TZID=America/Chicago:20251030T190000
DTEND;TZID=America/Chicago:20251030T210000
DTSTAMP:20260423T051611
CREATED:20250804T231651Z
LAST-MODIFIED:20250805T144030Z
UID:4780-1761850800-1761858000@glenbrookschool.com
SUMMARY:🏈 Senior Night Game vs. Jonesboro Hodge
DESCRIPTION:October 30 – vs. Jonesboro Hodge Tigers (Senior Night)📍 Home🕖 7:00 PMCelebrate our seniors and support the Apaches in this exciting matchup against the Tigers!
URL:https://glenbrookschool.com/event/senior-night-game-vs-jonesboro-hodge/
LOCATION:Glenbrook School\, 1674 Country Club Circle\, Minden\, LA\, 71055\, United States
CATEGORIES:Athletic Events
END:VEVENT
BEGIN:VEVENT
DTSTART;VALUE=DATE:20251101
DTEND;VALUE=DATE:20251102
DTSTAMP:20260423T051611
CREATED:20250817T164524Z
LAST-MODIFIED:20250817T164524Z
UID:5153-1761955200-1762041599@glenbrookschool.com
SUMMARY:🏊 Conference Finals – Ruston
DESCRIPTION:📅 Saturday\, November 1\, 2025 | 📍 Lambright Sports & Wellness Center – Ruston\, LAChampionship races are here! Let’s finish strong at the conference finals. 🏆💙
URL:https://glenbrookschool.com/event/%f0%9f%8f%8a-conference-finals-ruston/
LOCATION:Lambright Center-Ruston\, 922 Tech Dr\, Ruston\, LA\, 71270
CATEGORIES:Athletic Events
END:VEVENT
BEGIN:VEVENT
DTSTART;TZID=America/Chicago:20251103T173000
DTEND;TZID=America/Chicago:20251103T193000
DTSTAMP:20260423T051611
CREATED:20251015T145440Z
LAST-MODIFIED:20251015T145440Z
UID:5320-1762191000-1762198200@glenbrookschool.com
SUMMARY:🏀 JH Basketball @ Ringgold
DESCRIPTION:🏀 JH Basketball @ Ringgold📅 Monday\, November 3\, 2025 | 🕠 5:30 PM📍 Ringgold – Away GameThe Apaches hit the road for a rematch against Ringgold. Let’s bring the energy!
URL:https://glenbrookschool.com/event/%f0%9f%8f%80-jh-basketball-ringgold/
LOCATION:Ringgold High School\, 4044 Bienville Rd #B\, Ringgold\, LA\, 71068\, United States
CATEGORIES:Athletic Events,School Calendar
END:VEVENT
END:VCALENDAR