BEGIN:VCALENDAR
VERSION:2.0
PRODID:-//Glenbrook School - ECPv6.15.20//NONSGML v1.0//EN
CALSCALE:GREGORIAN
METHOD:PUBLISH
X-ORIGINAL-URL:https://glenbrookschool.com
X-WR-CALDESC:Events for Glenbrook School
REFRESH-INTERVAL;VALUE=DURATION:PT1H
X-Robots-Tag:noindex
X-PUBLISHED-TTL:PT1H
BEGIN:VTIMEZONE
TZID:America/Chicago
BEGIN:DAYLIGHT
TZOFFSETFROM:-0600
TZOFFSETTO:-0500
TZNAME:CDT
DTSTART:20250309T080000
END:DAYLIGHT
BEGIN:STANDARD
TZOFFSETFROM:-0500
TZOFFSETTO:-0600
TZNAME:CST
DTSTART:20251102T070000
END:STANDARD
BEGIN:DAYLIGHT
TZOFFSETFROM:-0600
TZOFFSETTO:-0500
TZNAME:CDT
DTSTART:20260308T080000
END:DAYLIGHT
BEGIN:STANDARD
TZOFFSETFROM:-0500
TZOFFSETTO:-0600
TZNAME:CST
DTSTART:20261101T070000
END:STANDARD
BEGIN:DAYLIGHT
TZOFFSETFROM:-0600
TZOFFSETTO:-0500
TZNAME:CDT
DTSTART:20270314T080000
END:DAYLIGHT
BEGIN:STANDARD
TZOFFSETFROM:-0500
TZOFFSETTO:-0600
TZNAME:CST
DTSTART:20271107T070000
END:STANDARD
END:VTIMEZONE
BEGIN:VEVENT
DTSTART;VALUE=DATE:20260420
DTEND;VALUE=DATE:20260426
DTSTAMP:20260423T064133
CREATED:20260420T014136Z
LAST-MODIFIED:20260420T014136Z
UID:5764-1776643200-1777161599@glenbrookschool.com
SUMMARY:📚 MAP Testing Grades 7–11
DESCRIPTION:📅 Monday\, April 20 – Friday\, April 24\, 2026 \n📍 Glenbrook School \nStudents in grades 7–11 will participate in MAP testing during the mornings on Monday\, Tuesday\, Thursday\, and Friday. Testing will take place during 1st hour/Activity time using the A.M. Activity Schedule. \nTesting Schedule: \n🧮 Monday\, April 20 – Math \n🔬 Tuesday\, April 21 – Science \n✍️ Thursday\, April 23 – Language \n📖 Friday\, April 24 – Reading \n⏰ Testing begins by 8:00 a.m. each day\, so please make every effort for students to arrive on time. Encourage students to get a good night’s rest and eat breakfast. \nThese assessments provide important academic growth data\, and we encourage all students to do their best!
URL:https://glenbrookschool.com/event/%f0%9f%93%9a-map-testing-grades-7-11/
CATEGORIES:School Calendar
END:VEVENT
END:VCALENDAR